BEGIN:VCALENDAR
VERSION:2.0
PRODID:-//ChamberMaster//Event Calendar 2.0//EN
METHOD:PUBLISH
X-PUBLISHED-TTL:P3D
REFRESH-INTERVAL:P3D
CALSCALE:GREGORIAN
BEGIN:VEVENT
DTSTART:20300814T131500Z
DTEND:20300814T144500Z
X-MICROSOFT-CDO-ALLDAYEVENT:FALSE
SUMMARY:Board of Directors meeting
DESCRIPTION:Board of Directors meeting
X-ALT-DESC;FMTTYPE=text/html:Board of Directors meeting
LOCATION:Blue Springs Chamber of Commerce 1000 West Main Street Blue Springs\, MO 64015
UID:e.581.23897
SEQUENCE:3
DTSTAMP:20260422T113339Z
URL:https://business.bluespringschamber.com/events/details/board-of-directors-meeting-08-14-2030-23897
END:VEVENT

END:VCALENDAR
