BEGIN:VCALENDAR
VERSION:2.0
PRODID:-//ChamberMaster//Event Calendar 2.0//EN
METHOD:PUBLISH
X-PUBLISHED-TTL:P3D
REFRESH-INTERVAL:P3D
CALSCALE:GREGORIAN
BEGIN:VEVENT
DTSTART:20330914T131500Z
DTEND:20330914T144500Z
X-MICROSOFT-CDO-ALLDAYEVENT:FALSE
SUMMARY:Board of Directors meeting
DESCRIPTION:Board of Directors meeting
X-ALT-DESC;FMTTYPE=text/html:Board of Directors meeting
LOCATION:Blue Springs Chamber of Commerce 1000 West Main Street Blue Springs\, MO 64015
UID:e.581.23934
SEQUENCE:3
DTSTAMP:20260420T072357Z
URL:https://business.bluespringschamber.com/events/details/board-of-directors-meeting-09-14-2033-23934
END:VEVENT

END:VCALENDAR
