BEGIN:VCALENDAR
VERSION:2.0
PRODID:-//ChamberMaster//Event Calendar 2.0//EN
METHOD:PUBLISH
X-PUBLISHED-TTL:P3D
REFRESH-INTERVAL:P3D
CALSCALE:GREGORIAN
BEGIN:VEVENT
DTSTART:20341011T131500Z
DTEND:20341011T144500Z
X-MICROSOFT-CDO-ALLDAYEVENT:FALSE
SUMMARY:Board of Directors meeting
DESCRIPTION:Board of Directors meeting
X-ALT-DESC;FMTTYPE=text/html:Board of Directors meeting
LOCATION:Blue Springs Chamber of Commerce 1000 West Main Street Blue Springs\, MO 64015
UID:e.581.23947
SEQUENCE:3
DTSTAMP:20260420T035529Z
URL:https://business.bluespringschamber.com/events/details/board-of-directors-meeting-10-11-2034-23947
END:VEVENT

END:VCALENDAR
