BEGIN:VCALENDAR
VERSION:2.0
PRODID:-//ChamberMaster//Event Calendar 2.0//EN
METHOD:PUBLISH
X-PUBLISHED-TTL:P3D
REFRESH-INTERVAL:P3D
CALSCALE:GREGORIAN
BEGIN:VEVENT
DTSTART:20260520T210000Z
DTEND:20260520T223000Z
X-MICROSOFT-CDO-ALLDAYEVENT:FALSE
SUMMARY:Business After Hours - GFM Recording Studio
DESCRIPTION:Join us for a After Hours at GFM Recording Studio\, hosted by the Chamber's Military Affairs Committee!  During the month of May\, we're celebrating National Military Appreciation Month. Join our Military Affairs Committee in supporting one of our local military-friendly businesses!\n\nStep up to the Open Mic and experience the real feel of a professional recording studio\n\n         \n\nThere's something for everyone. Come mix\, mingle\, and experience the real feel of a professional recording studio!
X-ALT-DESC;FMTTYPE=text/html:<p>Join us for a <strong>After Hours</strong> at <strong>GFM Recording Studio\, hosted by the Chamber&#39\;s Military Affairs Committee</strong>!&nbsp\;<font class="SmallText" style="color: rgb(51\, 51\, 51)\; font-family: sans-serif\, Arial\, Verdana\, &quot\;Trebuchet MS&quot\;\; font-size: 13px\;">&nbsp\;During the month of May\, we&#39\;re celebrating National Military Appreciation Month. Join our Military Affairs Committee in supporting one of our local military-friendly businesses!</font></p>\n\n<p>Step up to the <strong>Open Mic</strong> and experience the <strong>real feel of a professional recording studio<br />\n&nbsp\; &nbsp\; &nbsp\; &nbsp\; &nbsp\;</strong><br />\nThere&rsquo\;s something for everyone. Come mix\, mingle\, and experience the real feel of a professional recording studio!</p>\n\n<p>&nbsp\;</p>\n
LOCATION:118 W Main Street\, Blue Springs\, MO 64015
UID:e.581.25082
SEQUENCE:3
DTSTAMP:20260420T170524Z
URL:https://business.bluespringschamber.com/events/details/business-after-hours-gfm-recording-studio-25082
END:VEVENT

END:VCALENDAR
