BEGIN:VCALENDAR
VERSION:2.0
PRODID:-//ChamberMaster//Event Calendar 2.0//EN
METHOD:PUBLISH
X-PUBLISHED-TTL:P3D
REFRESH-INTERVAL:P3D
CALSCALE:GREGORIAN
BEGIN:VEVENT
DTSTART:20250605T160000Z
DTEND:20250605T170000Z
X-MICROSOFT-CDO-ALLDAYEVENT:FALSE
SUMMARY:Foot Screening
DESCRIPTION:No appointment necessary\, done in conjunction with Blood Pressure Checks\n\nSponsored by St. Mary's Medical Center for Wound Care and Hyperbaric Medicine.
X-ALT-DESC;FMTTYPE=text/html:No appointment necessary\, done in conjunction with Blood Pressure Checks<br />\nSponsored by St. Mary&#39\;s Medical Center for Wound Care and Hyperbaric Medicine.
LOCATION:Vesper Hall 400 NW Vesper Street Blue Springs\, MO 64014
UID:e.581.15661
SEQUENCE:3
DTSTAMP:20260423T082103Z
URL:https://business.bluespringschamber.com/events/details/foot-screening-06-05-2025-15661
END:VEVENT

END:VCALENDAR
