BEGIN:VCALENDAR
VERSION:2.0
PRODID:-//ChamberMaster//Event Calendar 2.0//EN
METHOD:PUBLISH
X-PUBLISHED-TTL:P3D
REFRESH-INTERVAL:P3D
CALSCALE:GREGORIAN
BEGIN:VEVENT
DTSTART:20260428T150000Z
DTEND:20260428T160000Z
X-MICROSOFT-CDO-ALLDAYEVENT:FALSE
SUMMARY:Genbluesprings Committee Meeting
DESCRIPTION:Join us on the last Tuesday of every month for our Genbluesprings meetings. This young professionals committee is designed for Chamber members aged 40 and under\, but it's open to anyone who still considers themselves young at heart.\n\n\n\nGenbluesprings offers a mix of Chamber education\, business insights\, leadership development\, and plenty of opportunities to network and build meaningful connections with likeminded professionals.
X-ALT-DESC;FMTTYPE=text/html:Join us on the last Tuesday of every month for our Genbluesprings meetings. This young professionals committee is designed for Chamber members aged 40 and under\, but it&#39\;s open to anyone who still considers themselves young at heart.<br />\n<br />\nGenbluesprings offers a mix of Chamber education\, business insights\, leadership development\, and plenty of opportunities to network and build meaningful connections with likeminded professionals.
LOCATION:Chamber office
UID:e.581.25027
SEQUENCE:3
DTSTAMP:20260426T033131Z
URL:https://business.bluespringschamber.com/events/details/genbluesprings-committee-meeting-04-28-2026-25027
END:VEVENT

END:VCALENDAR
