BEGIN:VCALENDAR
VERSION:2.0
PRODID:-//ChamberMaster//Event Calendar 2.0//EN
METHOD:PUBLISH
X-PUBLISHED-TTL:P3D
REFRESH-INTERVAL:P3D
CALSCALE:GREGORIAN
BEGIN:VEVENT
DTSTART;VALUE=DATE:20351224
DTEND;VALUE=DATE:20351225
TRANSP:TRANSPARENT
X-MICROSOFT-CDO-ALLDAYEVENT:TRUE
SUMMARY:Christmas Eve- Office Closed
DESCRIPTION:Chamber Office Closed
X-ALT-DESC;FMTTYPE=text/html:Chamber Office Closed
LOCATION:
UID:e.581.24814
SEQUENCE:3
DTSTAMP:20260422T223842Z
URL:https://business.bluespringschamber.com/events/details/holiday-office-closed-christmas-eve-12-24-2035-24814
END:VEVENT

END:VCALENDAR
