BEGIN:VCALENDAR
VERSION:2.0
PRODID:-//ChamberMaster//Event Calendar 2.0//EN
METHOD:PUBLISH
X-PUBLISHED-TTL:P3D
REFRESH-INTERVAL:P3D
CALSCALE:GREGORIAN
BEGIN:VEVENT
DTSTART:20260506T163000Z
DTEND:20260506T173000Z
X-MICROSOFT-CDO-ALLDAYEVENT:FALSE
SUMMARY:Meet Me for Lunch - Zarda Bar-B-Q
DESCRIPTION:Meet Me for Lunch at Zarda Bar-B-Q in Blue Springs! During the month of May\, we're celebrating National Military Appreciation Month. Join our Military Affairs Committee in supporting one of our local military-friendly businesses - just for lunch - no agenda! This brings revenue to our local restaurants while we all network and get to know each other better.
X-ALT-DESC;FMTTYPE=text/html:<br />\n<font class="SmallText">Meet Me for Lunch at Zarda Bar-B-Q in Blue Springs! During the month of May\, we&#39\;re celebrating National Military Appreciation Month. Join our Military Affairs Committee in supporting one of our local military-friendly businesses - just for lunch - no agenda! This brings revenue to our local restaurants while we all network and get to know each other better.</font><br />\n&nbsp\;
LOCATION:Zarda Bar-B-Q 214 NW Hwy 7 Blue Springs\, MO 64014
UID:e.581.25081
SEQUENCE:3
DTSTAMP:20260420T154548Z
URL:https://business.bluespringschamber.com/events/details/meet-me-for-lunch-zarda-bar-b-q-25081
END:VEVENT

END:VCALENDAR
