BEGIN:VCALENDAR
VERSION:2.0
PRODID:-//ChamberMaster//Event Calendar 2.0//EN
METHOD:PUBLISH
X-PUBLISHED-TTL:P3D
REFRESH-INTERVAL:P3D
CALSCALE:GREGORIAN
BEGIN:VEVENT
DTSTART:20260414T163000Z
DTEND:20260414T173000Z
X-MICROSOFT-CDO-ALLDAYEVENT:FALSE
SUMMARY:Military Affairs Committee
DESCRIPTION:This is a committee for members of the Blue Springs Chamber of Commerce. The goals of this committee are:\n\n\n	 Support Veteran owned business (No matter the percentage of veteran ownership.) \n	Help military affiliated individuals   like active-duty service members\, veterans and military spouses   build strong career paths in our community.   \n	Promote Local Businesses to veterans\, active-duty service members and their families.
X-ALT-DESC;FMTTYPE=text/html:<div>\n<div>\n<p paraeid="{deb521ba-61a4-4d07-89e6-d13df5874ff4}{77}" paraid="1559571344">This is a committee for members of the Blue Springs Chamber of Commerce. The goals of this committee are:</p>\n\n<ol dir="ltr">\n	<li paraeid="{deb521ba-61a4-4d07-89e6-d13df5874ff4}{77}" paraid="1559571344">&#8203\;Support Veteran owned business (No matter the percentage of veteran ownership.)&nbsp\;</li>\n	<li paraeid="{deb521ba-61a4-4d07-89e6-d13df5874ff4}{77}" paraid="1559571344">Help military affiliated individuals &ndash\; like active-duty service members\, veterans and military spouses &ndash\; build strong career paths in our community.&nbsp\;&nbsp\;&nbsp\;</li>\n	<li paraeid="{deb521ba-61a4-4d07-89e6-d13df5874ff4}{77}" paraid="1559571344">Promote Local Businesses to veterans\, active-duty service members and their families.&nbsp\;</li>\n</ol>\n</div>\n</div>\n
LOCATION:Chamber Office 1000 Main Street Blue Springs\, MO 64015
UID:e.581.24877
SEQUENCE:3
DTSTAMP:20260426T033017Z
URL:https://business.bluespringschamber.com/events/details/military-affairs-committee-04-14-2026-24877
END:VEVENT

END:VCALENDAR
