BEGIN:VCALENDAR
VERSION:2.0
PRODID:-//ChamberMaster//Event Calendar 2.0//EN
METHOD:PUBLISH
X-PUBLISHED-TTL:P3D
REFRESH-INTERVAL:P3D
CALSCALE:GREGORIAN
BEGIN:VEVENT
DTSTART:20260416T163000Z
DTEND:20260416T180000Z
X-MICROSOFT-CDO-ALLDAYEVENT:FALSE
SUMMARY:Monthly Luncheon- First Responders Awards
DESCRIPTION:Please join us for the First Responder Awards Luncheon. This annual event recognizes and thanks the First Responders who put themselves in harm's way protecting and serving the businesses and residents of our community. Awards will be given recognizing heroism\, community service and dedication.
X-ALT-DESC;FMTTYPE=text/html:Please join us for the First Responder Awards Luncheon.&nbsp\;This annual event recognizes and thanks the First Responders who put themselves in harm&#39\;s way protecting and serving the businesses and residents of our community.&nbsp\;Awards will be given recognizing heroism\, community service and dedication.<scribe-shadow data-crx="okfkdaglfjjjfefdcppliegebpoegaii" id="crxjs-ext" style="position: fixed\; width: 0px\; height: 0px\; top: 0px\; left: 0px\; z-index: 2147483647\; overflow: visible\; visibility: visible\;"></scribe-shadow>
LOCATION:Adam's Pointe Conference Center 1400 NE Coronado Dr. Blue Springs\, MO 64014
UID:e.581.24840
SEQUENCE:3
DTSTAMP:20260426T033018Z
URL:https://business.bluespringschamber.com/events/details/monthly-luncheon-first-responders-awards-luncheon-24840
END:VEVENT

END:VCALENDAR
