BEGIN:VCALENDAR
VERSION:2.0
PRODID:-//ChamberMaster//Event Calendar 2.0//EN
METHOD:PUBLISH
X-PUBLISHED-TTL:P3D
REFRESH-INTERVAL:P3D
CALSCALE:GREGORIAN
BEGIN:VEVENT
DTSTART;VALUE=DATE:20360121
DTEND;VALUE=DATE:20360122
TRANSP:TRANSPARENT
X-MICROSOFT-CDO-ALLDAYEVENT:TRUE
SUMMARY:Office Closed - Martin Luther King Jr. Day
DESCRIPTION:
X-ALT-DESC;FMTTYPE=text/html:
LOCATION:
UID:e.581.24419
SEQUENCE:3
DTSTAMP:20260423T000402Z
URL:https://business.bluespringschamber.com/events/details/office-closed-martin-luther-king-jr-day-01-21-2036-24419
END:VEVENT

END:VCALENDAR
