BEGIN:VCALENDAR
VERSION:2.0
PRODID:-//ChamberMaster//Event Calendar 2.0//EN
METHOD:PUBLISH
X-PUBLISHED-TTL:P3D
REFRESH-INTERVAL:P3D
CALSCALE:GREGORIAN
BEGIN:VEVENT
DTSTART;VALUE=DATE:20351122
DTEND;VALUE=DATE:20351123
TRANSP:TRANSPARENT
X-MICROSOFT-CDO-ALLDAYEVENT:TRUE
SUMMARY:Office Closed - Thanksgiving Holiday
DESCRIPTION:Chamber office closed.
X-ALT-DESC;FMTTYPE=text/html:Chamber office closed.
LOCATION:
UID:e.581.24837
SEQUENCE:3
DTSTAMP:20260422T223726Z
URL:https://business.bluespringschamber.com/events/details/office-closed-thanksgiving-holiday-11-22-2035-24837
END:VEVENT

END:VCALENDAR
