BEGIN:VCALENDAR
VERSION:2.0
PRODID:-//ChamberMaster//Event Calendar 2.0//EN
METHOD:PUBLISH
X-PUBLISHED-TTL:P3D
REFRESH-INTERVAL:P3D
CALSCALE:GREGORIAN
BEGIN:VEVENT
DTSTART:20130226T213000Z
DTEND:20130226T223000Z
X-MICROSOFT-CDO-ALLDAYEVENT:FALSE
SUMMARY:Power Hour - event cancelled
DESCRIPTION:TOPIC:\n\n\n\nUncovering the Secret Weapon of Growth presented by Debra Kunz (DKK Group)\n\n\n\nWhat if it's something you already know about\, but aren't yet doing?  What if it's something you're doing\, yet aren't paying attention to?  Debra Kunz helps you explore the business growth that is right under your nose and what to do about it.
X-ALT-DESC;FMTTYPE=text/html:TOPIC:<br />\n<br />\n<strong>Uncovering the Secret Weapon of Growth</strong> presented by Debra Kunz (DKK Group)<br />\n<br />\nWhat if it&#39\;s something you already know about\, but aren&#39\;t yet doing?&nbsp\; What if it&#39\;s something you&#39\;re doing\, yet aren&#39\;t paying attention to?&nbsp\; Debra Kunz helps you explore the business growth that is right under your nose and what to do about it.
LOCATION:CJC Training Facility 4715 West 40 Highway Blue Springs\, MO
UID:e.581.5282
SEQUENCE:3
DTSTAMP:20260424T044610Z
URL:https://business.bluespringschamber.com/events/details/power-hour-event-cancelled-02-26-2013-5282
END:VEVENT

END:VCALENDAR
