BEGIN:VCALENDAR
VERSION:2.0
PRODID:-//ChamberMaster//Event Calendar 2.0//EN
METHOD:PUBLISH
X-PUBLISHED-TTL:P3D
REFRESH-INTERVAL:P3D
CALSCALE:GREGORIAN
BEGIN:VEVENT
DTSTART:20260501T140000Z
DTEND:20260501T220000Z
X-MICROSOFT-CDO-ALLDAYEVENT:FALSE
SUMMARY:Soccer Capital of America® Pop-Up Shop
DESCRIPTION:Stop by our Blue Springs North branch and join the fun! In partnership with Sporting Kansas City's official Sporting Style store\, we're bringing a pop-up experience to select Central Bank locations\, with more coming soon!\n\nBrowse official Soccer Capital of America  and tournament merchandise from jerseys and hats to scarves and collectibles and celebrate the city that helped earn KC its title as the Soccer Capital of America .\n\nSpecial Offer: Central Bank customers with a Soccer Capital of America  debit card\, will get 26% off select items!\n\nFor a full list of dates\, locations\, and to learn more about future pop-ups\, visit https://www.centralbank.net/soccer-capital-pop-up/
X-ALT-DESC;FMTTYPE=text/html:<p style="margin-left:0px\; margin-right:0px">Stop by our Blue Springs North branch and join the fun! In partnership with Sporting Kansas City&rsquo\;s official Sporting Style store\, we&rsquo\;re bringing a pop-up experience to select Central Bank locations\, with more coming soon!</p>\n\n<p style="margin-left:0px\; margin-right:0px">Browse official Soccer Capital of America<sup>&reg\;</sup> and tournament merchandise from jerseys and hats to scarves and collectibles and celebrate the city that helped earn KC its title as the Soccer Capital of America<sup>&reg\;</sup>.</p>\n\n<p style="margin-left:0px\; margin-right:0px">Special Offer: Central Bank customers with a Soccer Capital of America<sup>&reg\;</sup> debit card\, will get 26% off select items!</p>\n\n<p style="margin-left:0px\; margin-right:0px">For a full list of dates\, locations\, and to learn more about future pop-ups\, visit&nbsp\;<strong>https://www.centralbank.net/soccer-capital-pop-up/</strong></p>\n
LOCATION:Central Bank - Blue Springs North 1505 NW HWY 7 Blue Springs\, MO 64014
UID:e.581.25640
SEQUENCE:3
DTSTAMP:20260422T002057Z
URL:https://business.bluespringschamber.com/events/details/soccer-capital-of-america-pop-up-shop-25640
END:VEVENT

END:VCALENDAR
