BEGIN:VCALENDAR
VERSION:2.0
PRODID:-//ChamberMaster//Event Calendar 2.0//EN
METHOD:PUBLISH
X-PUBLISHED-TTL:P3D
REFRESH-INTERVAL:P3D
CALSCALE:GREGORIAN
BEGIN:VEVENT
DTSTART:20250718T170000Z
DTEND:20250718T180000Z
X-MICROSOFT-CDO-ALLDAYEVENT:FALSE
SUMMARY:The IDEA Exchange
DESCRIPTION:The IDEA Exchange\n\nThis is a Task Force of the Blue Springs Chamber that meets quarterly.  IDEA stands for Insight\, Deliberate Empathy and Awareness.  \n\nInsight: the power or act of seeing into or understanding something\n\nDeliberate Empathy:  Deliberate empathy is the act of intentionally focusing on another person's feelings and perspective. It can involve listening to someone with the goal of understanding their experience. \n\nAwareness:  Concern about and well-informed interest in a situation or fact\n\n\n\nGoals of Group\n\n\n	To foster understanding\, respect\, and collaboration among businesspeople and community leaders\n	To offer educational programs that include opportunities for dialogue and shared experiences\n\n\nGround Rules   This is not a social justice group
X-ALT-DESC;FMTTYPE=text/html:<p font-size:="" style="color: rgb(51\, 51\, 51)\; font-family: sans-serif\, Arial\, Verdana\, " trebuchet=""><br />\n<span style="font-size:14px\;"><span style="font-family: arial\;"><span style="color: rgb(15\, 36\, 62)\;"><strong>The IDEA Exchange</strong><br />\nThis is a Task Force of the Blue Springs Chamber that meets quarterly.&nbsp\; IDEA stands for&nbsp\;</span></span><span style="color: rgb(15\, 36\, 62)\;"><span new="" times="">Insight\, Deliberate Empathy and Awareness.&nbsp\;&nbsp\;</span></span></span></p>\n\n<p font-size:="" margin-left:="" style="color: rgb(51\, 51\, 51)\; font-family: sans-serif\, Arial\, Verdana\, " trebuchet=""><span style="font-size:14px\;"><span style="color: rgb(15\, 36\, 62)\;"><span new="" times="">Insight: the power or act of seeing into or understanding something</span></span><br />\n<span style="color: rgb(15\, 36\, 62)\;"><span new="" times="">Deliberate Empathy:</span></span>&nbsp\;&nbsp\;<span style="color: rgb(15\, 36\, 62)\;"><span new="" times="">Deliberate empathy is&nbsp\;the act of intentionally focusing on another person&#39\;s feelings and perspective.&nbsp\;It can involve listening to someone with the goal of understanding their experience.&nbsp\;</span></span><br />\n<span style="color: rgb(15\, 36\, 62)\;"><span new="" times="">Awareness:&nbsp\; Concern about and well-informed interest in a situation or fact</span></span></span></p>\n\n<p font-size:="" style="color: rgb(51\, 51\, 51)\; font-family: sans-serif\, Arial\, Verdana\, " trebuchet=""><br />\n<span style="font-size:14px\;"><span style="font-family: arial\;"><span style="color: rgb(15\, 36\, 62)\;">Goals of Group</span></span></span></p>\n\n<ul font-size:="" style="padding: 0px 40px\; color: rgb(51\, 51\, 51)\; font-family: sans-serif\, Arial\, Verdana\, " trebuchet="">\n	<li style="color: rgb(15\, 36\, 62)\; margin-left: -15pt\;"><span style="font-size:14px\;"><span style="font-family: arial\;">To foster understanding\, respect\, and collaboration among businesspeople and community leaders</span></span></li>\n	<li style="color: rgb(15\, 36\, 62)\; margin-left: -15pt\;"><span style="font-size:14px\;"><span style="font-family: arial\;">To offer educational programs that include opportunities for dialogue and shared experiences</span></span></li>\n</ul>\n\n<p font-size:="" style="color: rgb(51\, 51\, 51)\; font-family: sans-serif\, Arial\, Verdana\, " trebuchet=""><span style="font-size:14px\;"><span style="font-family: arial\;"><span style="color: rgb(15\, 36\, 62)\;">Ground Rules &ndash\; This is not a social justice group</span></span></span></p>\n
LOCATION:Chamber Office You are welcome to bring your lunch and eat during this meeting.
UID:e.581.24501
SEQUENCE:3
DTSTAMP:20260419T153015Z
URL:https://business.bluespringschamber.com/events/details/the-idea-exchange-24501
END:VEVENT

END:VCALENDAR
