BEGIN:VCALENDAR
VERSION:2.0
PRODID:-//ChamberMaster//Event Calendar 2.0//EN
METHOD:PUBLISH
X-PUBLISHED-TTL:P3D
REFRESH-INTERVAL:P3D
CALSCALE:GREGORIAN
BEGIN:VEVENT
DTSTART:20260417T170000Z
DTEND:20260417T180000Z
X-MICROSOFT-CDO-ALLDAYEVENT:FALSE
SUMMARY:The IDEA Exchange
DESCRIPTION:This is a Task Force of the Blue Springs Chamber that meets at least quarterly.  IDEA stands for Insight\, Deliberate Empathy and Awareness.  \n\nInsight: the power or act of seeing into or understanding something\n\nDeliberate Empathy:  Deliberate empathy is the act of intentionally focusing on another person's feelings and perspective. It can involve listening to someone with the goal of understanding their experience. \n\nAwareness:  Concern about and well-informed interest in a situation or fact\n\nGoals of Group\n\n\n	To foster understanding\, respect\, and collaboration among businesspeople and community leaders\n	To offer educational programs that include opportunities for dialogue and shared experiences\n\n\nGround Rules   This is not a social justice group
X-ALT-DESC;FMTTYPE=text/html:<p font-size:="" trebuchet="">This is a Task Force of the Blue Springs Chamber that meets at least quarterly.&nbsp\; IDEA stands for&nbsp\;Insight\, Deliberate Empathy and Awareness.&nbsp\;&nbsp\;</p>\n\n<p font-size:="" margin-left:="" trebuchet="">Insight: the power or act of seeing into or understanding something<br />\nDeliberate Empathy:&nbsp\;&nbsp\;Deliberate empathy is&nbsp\;the act of intentionally focusing on another person&#39\;s feelings and perspective.&nbsp\;It can involve listening to someone with the goal of understanding their experience.&nbsp\;<br />\nAwareness:&nbsp\; Concern about and well-informed interest in a situation or fact<br />\nGoals of Group</p>\n\n<ul font-size:="" trebuchet="">\n	<li>To foster understanding\, respect\, and collaboration among businesspeople and community leaders</li>\n	<li>To offer educational programs that include opportunities for dialogue and shared experiences</li>\n</ul>\n\n<p font-size:="" trebuchet="">Ground Rules &ndash\; This is not a social justice group</p>\n<scribe-shadow data-crx="okfkdaglfjjjfefdcppliegebpoegaii" id="crxjs-ext" style="position: fixed\; width: 0px\; height: 0px\; top: 0px\; left: 0px\; z-index: 2147483647\; overflow: visible\; visibility: visible\;"></scribe-shadow>
LOCATION:Blue Springs Chamber of Commerce 1000 W Main Street Blue Springs\, MO
UID:e.581.25077
SEQUENCE:3
DTSTAMP:20260421T112706Z
URL:https://business.bluespringschamber.com/events/details/the-idea-exchange-25077
END:VEVENT

END:VCALENDAR
